BEGIN:VCALENDAR
VERSION:2.0
CREATED:20260219T210051Z
PRODID:-//Amrize/Equisolve Calendar v1.0//EN
METHOD:PUBLISH
BEGIN:VEVENT
UID:f825c9978e985069ef11f7561ed7622a
DTSTAMP:20260423T124259Z
DTSTART:20260430T000000
DTEND:20260501T000000
SUMMARY:Q1 2026 10-Q Publication
DESCRIPTION:Q1 2026 10-Q Publication\nDate: Apr 30\, 2026
END:VEVENT
END:VCALENDAR
